BEGIN:VCALENDAR
VERSION:2.0
PRODID:-//jEvents 2.0 for Joomla//EN
CALSCALE:GREGORIAN
METHOD:PUBLISH
BEGIN:VEVENT
UID:B091B439-AB1D-443C-B386-0C20F2BA90C9
CATEGORIES:Rehearsals
CREATED:20250813T224303
SUMMARY:Wickenburg Show
LOCATION:160 N Valentine, Wickenburg
DESCRIPTION;ENCODING=QUOTED-PRINTABLE:10:00.  Load<br/>12:00 Call<br/>2:00 Show<br/><br/>Class B First Half<br/>C
 lass A Second Half<br/><br/>getschedule
DTSTAMP:20260419T093220Z
DTSTART;TZID=America/Phoenix:20260308T140000
DTEND;TZID=America/Phoenix:20260308T160000
SEQUENCE:0
TRANSP:OPAQUE
END:VEVENT
END:VCALENDAR